BEGIN:VCALENDAR
VERSION:2.0
PRODID:-//AD MELIUS - ECPv6.15.18//NONSGML v1.0//EN
CALSCALE:GREGORIAN
METHOD:PUBLISH
X-ORIGINAL-URL:https://admelius.it
X-WR-CALDESC:Eventi per AD MELIUS
REFRESH-INTERVAL;VALUE=DURATION:PT1H
X-Robots-Tag:noindex
X-PUBLISHED-TTL:PT1H
BEGIN:VTIMEZONE
TZID:Europe/Rome
BEGIN:DAYLIGHT
TZOFFSETFROM:+0100
TZOFFSETTO:+0200
TZNAME:CEST
DTSTART:20250330T010000
END:DAYLIGHT
BEGIN:STANDARD
TZOFFSETFROM:+0200
TZOFFSETTO:+0100
TZNAME:CET
DTSTART:20251026T010000
END:STANDARD
BEGIN:DAYLIGHT
TZOFFSETFROM:+0100
TZOFFSETTO:+0200
TZNAME:CEST
DTSTART:20260329T010000
END:DAYLIGHT
BEGIN:STANDARD
TZOFFSETFROM:+0200
TZOFFSETTO:+0100
TZNAME:CET
DTSTART:20261025T010000
END:STANDARD
BEGIN:DAYLIGHT
TZOFFSETFROM:+0100
TZOFFSETTO:+0200
TZNAME:CEST
DTSTART:20270328T010000
END:DAYLIGHT
BEGIN:STANDARD
TZOFFSETFROM:+0200
TZOFFSETTO:+0100
TZNAME:CET
DTSTART:20271031T010000
END:STANDARD
END:VTIMEZONE
BEGIN:VEVENT
DTSTART;TZID=Europe/Rome:20260520T083000
DTEND;TZID=Europe/Rome:20260520T123000
DTSTAMP:20260419T184804
CREATED:20251125T151619Z
LAST-MODIFIED:20251125T151619Z
UID:10000290-1779265800-1779280200@admelius.it
SUMMARY:Formazione RLS - Aggiornamento 4 ore
DESCRIPTION:[vc_row type=”full_width_background” full_screen_row_position=”middle” column_margin=”default” column_direction=”default” column_direction_tablet=”default” column_direction_phone=”default” bg_color=”#ffffff” scene_position=”center” top_padding=”2%” bottom_padding=”2%” text_color=”dark” text_align=”left” row_border_radius=”none” row_border_radius_applies=”bg” overflow=”visible” id=”corso-antincendio-rischio-basso” overlay_strength=”0.3″ gradient_direction=”left_to_right” shape_divider_position=”bottom” bg_image_animation=”none” shape_type=””][vc_column column_padding=”no-extra-padding” column_padding_tablet=”inherit” column_padding_phone=”inherit” column_padding_position=”all” column_element_direction_desktop=”default” column_element_spacing=”default” desktop_text_alignment=”default” tablet_text_alignment=”default” phone_text_alignment=”default” background_color_opacity=”1″ background_hover_color_opacity=”1″ column_backdrop_filter=”none” column_shadow=”none” column_border_radius=”none” column_link_target=”_self” column_position=”default” gradient_direction=”left_to_right” overlay_strength=”0.3″ width=”1/1″ tablet_width_inherit=”default” animation_type=”default” bg_image_animation=”none” border_type=”simple” column_border_width=”none” column_border_style=”solid”][vc_row_inner column_margin=”default” column_direction=”default” column_direction_tablet=”default” column_direction_phone=”default” top_padding=”2%” text_align=”left” row_position=”default” row_position_tablet=”inherit” row_position_phone=”inherit” overflow=”visible” pointer_events=”all”][vc_column_inner column_padding=”padding-1-percent” column_padding_tablet=”inherit” column_padding_phone=”inherit” column_padding_position=”all” column_element_direction_desktop=”default” column_element_spacing=”default” desktop_text_alignment=”default” tablet_text_alignment=”default” phone_text_alignment=”default” background_color_opacity=”1″ background_hover_color_opacity=”1″ column_backdrop_filter=”none” column_shadow=”none” column_border_radius=”none” column_link_target=”_self” overflow=”visible” gradient_direction=”left_to_right” overlay_strength=”0.3″ width=”1/2″ tablet_width_inherit=”default” animation_type=”default” bg_image_animation=”none” border_type=”simple” column_border_width=”none” column_border_style=”solid”][vc_custom_heading text=”Durata” font_container=”tag:h5|text_align:left|color:%23bf2b2b” use_theme_fonts=”yes”] \n\nDurata 4 ore\n\n [divider line_type=”No Line” custom_height=”20″][vc_custom_heading text=”Pianificazione” font_container=”tag:h5|text_align:left|color:%23bf2b2b” use_theme_fonts=”yes”] \n\nMercoledì 20 maggio 2026 – 08.30 / 12.30\n\n [divider line_type=”No Line” custom_height=”20″][vc_custom_heading text=”Obiettivi e destinatari” font_container=”tag:h5|text_align:left|color:%23bf2b2b” use_theme_fonts=”yes”] \n\nIl corso è rivolto a tutti gli RLS che hanno già svolto il corso ed hanno l’obbligo di aggiornare la loro formazione secondo quanto stabilito dall’Accordo Stato Regioni n.221 del 21 dicembre 2011 (aggiornamento ogni anno).\n\n [divider line_type=”No Line” custom_height=”20″][vc_custom_heading text=”CONTENUTI GENERALI” font_container=”tag:h5|text_align:left|color:%23bf2b2b” use_theme_fonts=”yes”] \n\nGli aspetti giuridici e normativi\nGli aspetti tecnici dei rischi che espongono i lavoratori\nL’aggiornamento dell’organizzazione e la gestione della sicurezza in azienda\nL’analisi delle fonti di rischio e relative misure di prevenzione\n\n [/vc_column_inner][vc_column_inner column_padding=”padding-1-percent” column_padding_tablet=”inherit” column_padding_phone=”inherit” column_padding_position=”all” column_element_direction_desktop=”default” column_element_spacing=”default” desktop_text_alignment=”default” tablet_text_alignment=”default” phone_text_alignment=”default” background_color_opacity=”1″ background_hover_color_opacity=”1″ column_backdrop_filter=”none” column_shadow=”none” column_border_radius=”none” column_link_target=”_self” overflow=”visible” gradient_direction=”left_to_right” overlay_strength=”0.3″ width=”1/2″ tablet_width_inherit=”default” animation_type=”default” bg_image_animation=”none” border_type=”simple” column_border_width=”none” column_border_style=”solid”][vc_custom_heading text=”Didattica” font_container=”tag:h5|text_align:left|color:%23bf2b2b” use_theme_fonts=”yes”] \n\nFormazione supportata da contenuti multimediali e casi studio.\n\n [divider line_type=”No Line” custom_height=”20″][vc_custom_heading text=”Valutazione del corso” font_container=”tag:h5|text_align:left|color:%23bf2b2b” use_theme_fonts=”yes”] \n\nLa valutazione dell’apprendimento è misurata attraverso la somministrazione di un test finale. Ogni corsista potrà poi valutare la qualità del corso attraverso la compilazione di un test di soddisfazione.\n\n [divider line_type=”No Line” custom_height=”20″][vc_custom_heading text=”Documentazione” font_container=”tag:h5|text_align:left|color:%23bf2b2b” use_theme_fonts=”yes”] \n\nAd ogni partecipante sarà consegnato del materiale didattico in formato PDF e l’attestazione di frequenza.\n\n [/vc_column_inner][/vc_row_inner][vc_row_inner column_margin=”default” column_direction=”default” column_direction_tablet=”default” column_direction_phone=”default” text_align=”left” row_position=”default” row_position_tablet=”inherit” row_position_phone=”inherit” overflow=”visible” pointer_events=”all”][vc_column_inner column_padding=”no-extra-padding” column_padding_tablet=”inherit” column_padding_phone=”inherit” column_padding_position=”all” column_element_direction_desktop=”default” column_element_spacing=”default” centered_text=”true” desktop_text_alignment=”default” tablet_text_alignment=”default” phone_text_alignment=”default” background_color_opacity=”1″ background_hover_color_opacity=”1″ column_backdrop_filter=”none” column_shadow=”none” column_border_radius=”none” column_link_target=”_self” overflow=”visible” gradient_direction=”left_to_right” overlay_strength=”0.3″ width=”1/1″ tablet_width_inherit=”default” animation_type=”default” bg_image_animation=”none” border_type=”simple” column_border_width=”none” column_border_style=”solid”][nectar_btn size=”large” button_style=”see-through-2″ color_override=”#ce2e2a” hover_color_override=”#ce2e2a” hover_text_color_override=”#ffffff” icon_family=”default_arrow” url=”https://admelius.it/form-view/9″ text=”Contattaci” margin_top=”15″][vc_column_text]\n      \n        \n          \n            ×\n          \n          \n				\n					\n						1\n						Step 1\n						\n					\n				\n			\n			\n			\n		\n			\n				\n					\n					\n						\n							Nome e Cognomeaccount_circle e853\n							\n						\n							Emailemail\n							\n						\n							Telefonolocal_phone\n							\n						\n							Aziendabusiness_center\n							\n						\n							Numero Partecipanti\n							\n						\n							Ho preso visione dell'informativa ai sensi dell ‘art 13 del REG. UE 2016/679. Per consultare l’informativa completa.\n							\n						\n							Accetto di ricevere la newsletter di AD MELIUS via email. Ho letto l’Informativa privacy.\n							\n						\n							reCaptcha v3\n							\n						\n							Invia\n							\n						\n					\n				\n			\n			\n				\n					\n					keyboard_arrow_leftPrevious\n				\n					\n					Nextkeyboard_arrow_right\n			\n		\n        FormCraft - WordPress form builder\n      \n      [/vc_column_text][/vc_column_inner][/vc_row_inner][/vc_column][/vc_row]
URL:https://admelius.it/corso/formazione-rls-aggiornamento-4-ore/
LOCATION:In aula a Pianengo (CR) o Videoconferenza
CATEGORIES:Lavoratori,RLS
ATTACH;FMTTYPE=image/jpeg:https://admelius.it/wp-content/uploads/2020/09/formazione-rls.jpg
END:VEVENT
END:VCALENDAR